BEGIN:VCALENDAR
VERSION:2.0
PRODID:-//Calderdale College - ECPv6.15.15//NONSGML v1.0//EN
CALSCALE:GREGORIAN
METHOD:PUBLISH
X-WR-CALNAME:Calderdale College
X-ORIGINAL-URL:https://www.calderdale.ac.uk
X-WR-CALDESC:Events for Calderdale College
REFRESH-INTERVAL;VALUE=DURATION:PT1H
X-Robots-Tag:noindex
X-PUBLISHED-TTL:PT1H
BEGIN:VTIMEZONE
TZID:Europe/London
BEGIN:DAYLIGHT
TZOFFSETFROM:+0000
TZOFFSETTO:+0100
TZNAME:BST
DTSTART:20230326T010000
END:DAYLIGHT
BEGIN:STANDARD
TZOFFSETFROM:+0100
TZOFFSETTO:+0000
TZNAME:GMT
DTSTART:20231029T010000
END:STANDARD
BEGIN:DAYLIGHT
TZOFFSETFROM:+0000
TZOFFSETTO:+0100
TZNAME:BST
DTSTART:20240331T010000
END:DAYLIGHT
BEGIN:STANDARD
TZOFFSETFROM:+0100
TZOFFSETTO:+0000
TZNAME:GMT
DTSTART:20241027T010000
END:STANDARD
BEGIN:DAYLIGHT
TZOFFSETFROM:+0000
TZOFFSETTO:+0100
TZNAME:BST
DTSTART:20250330T010000
END:DAYLIGHT
BEGIN:STANDARD
TZOFFSETFROM:+0100
TZOFFSETTO:+0000
TZNAME:GMT
DTSTART:20251026T010000
END:STANDARD
END:VTIMEZONE
BEGIN:VEVENT
DTSTART;TZID=Europe/London:20240627T130000
DTEND;TZID=Europe/London:20240627T190000
DTSTAMP:20260420T003601
CREATED:20240514T151843Z
LAST-MODIFIED:20240514T154127Z
UID:13166-1719493200-1719514800@www.calderdale.ac.uk
SUMMARY:Adults Open Event - Thursday 27 June
DESCRIPTION:Visit our Adults Open Day on Thursday 27 June and discover what it’s like being a part of #TeamCalderdale! \nSee how one of our courses could change your life and find out more about how you can develop your career or get back into employment \n\nOn this day\, you will be able to…\n– Discover our full-time and part-time courses\, degrees and apprenticeships– Meet our expert tutors– Get advice and guidance\, including funding information– Explore progression opportunities– Start your adventure\, apply on the day and make friends for life!\n\nDrop in anytime between 1pm-7pm\n\nSecure your free spot: https://www.eventbrite.co.uk/…/adults-open-event…\n\nGot a question?\nT: 01422 399316E: admissions@calderdale.ac.uk
URL:https://www.calderdale.ac.uk/event/adults-open-event-thursday-27-june/
LOCATION:Calderdale College\, Francis Street\, Halifax\, HX1 3UZ\, United Kingdom
CATEGORIES:All Events
ATTACH;FMTTYPE=image/jpeg:https://www.calderdale.ac.uk/wp-content/uploads/2024/05/CC-Adult-Library-2023-24-Course-Guide-80-scaled-e1714655240347.jpg
END:VEVENT
END:VCALENDAR