BEGIN:VCALENDAR
VERSION:2.0
PRODID:-//Calderdale College - ECPv6.15.15//NONSGML v1.0//EN
CALSCALE:GREGORIAN
METHOD:PUBLISH
X-ORIGINAL-URL:https://www.calderdale.ac.uk
X-WR-CALDESC:Events for Calderdale College
REFRESH-INTERVAL;VALUE=DURATION:PT1H
X-Robots-Tag:noindex
X-PUBLISHED-TTL:PT1H
BEGIN:VTIMEZONE
TZID:Europe/London
BEGIN:DAYLIGHT
TZOFFSETFROM:+0000
TZOFFSETTO:+0100
TZNAME:BST
DTSTART:20230326T010000
END:DAYLIGHT
BEGIN:STANDARD
TZOFFSETFROM:+0100
TZOFFSETTO:+0000
TZNAME:GMT
DTSTART:20231029T010000
END:STANDARD
BEGIN:DAYLIGHT
TZOFFSETFROM:+0000
TZOFFSETTO:+0100
TZNAME:BST
DTSTART:20240331T010000
END:DAYLIGHT
BEGIN:STANDARD
TZOFFSETFROM:+0100
TZOFFSETTO:+0000
TZNAME:GMT
DTSTART:20241027T010000
END:STANDARD
BEGIN:DAYLIGHT
TZOFFSETFROM:+0000
TZOFFSETTO:+0100
TZNAME:BST
DTSTART:20250330T010000
END:DAYLIGHT
BEGIN:STANDARD
TZOFFSETFROM:+0100
TZOFFSETTO:+0000
TZNAME:GMT
DTSTART:20251026T010000
END:STANDARD
END:VTIMEZONE
BEGIN:VEVENT
DTSTART;TZID=Europe/London:20241128T160000
DTEND;TZID=Europe/London:20241128T183000
DTSTAMP:20260419T131656
CREATED:20240903T104219Z
LAST-MODIFIED:20241108T100448Z
UID:13399-1732809600-1732818600@www.calderdale.ac.uk
SUMMARY:Open Event - Thursday 28 November 2024
DESCRIPTION:Wondering what your next steps after school are\, or what steps you can take towards your dream career? If you’d like to join the best College in West Yorkshire for student success then Calderdale College is the place to be… \nWith a wide variety of courses for school leavers and adults including T Levels\, apprenticeships and degree courses\, there really is something for everyone! \nBook onto our November Open Event: https://www.eventbrite.com/e/1022345873027 \nCome along and: \n• Check out our fantastic facilities \n• Meet your tutors \n• Experience classroom demonstrations \n• Speak to our students \n• Apply for a course and join #TeamCalderdale on the day \n• Attend one of our College Talks and find out more about Calderdale College \nEven more to explore at Calderdale College: \nT Levels: How does studying inside and outside of the classroom sound? \nTake advantage of a programme of study designed by employers! T Levels are a NEW qualification that blends classroom learning with an industry placement to give you the experience all employers are looking for\, and maximise your future employment prospects. \nMill Studios: Brand new for September 2024\, study at our digital creative hub based in Dean Clough and turn your passion into a career with our Esports\, Games Design and TV & Film courses! Speak to our tutors and find out more. \nDrive your career forward: Interested in mechanics or vehicle accident repair? Discover more about our Motor Vehicle courses at our new specialist Automotive Centre\, housed just 5-minutes from our main campus in Halifax. Head to the Printworks on Lightowler Road\, HX1 5NB to explore our facilities! \nThe Engineering Centre: Our specialist Engineering and Manufacturing Centre is on a mission to get you job ready through apprenticeships and study programmes! Meet our expert tutors and hear more about the industry-standard facilities on offer at our Brighouse campus. \nAdults Training Catalogue: Are you 19+ and exploring a change in career? Or are you looking for the next steps to moving your current career forward? Chat to us about how you can study part-time around your other commitments with our range of courses for adults. \nSport Academies: Dreaming of turning your favourite sport into your career? Make sure to discover more about our Sport Academies and combine your favourite sport with your studies. Ask about our Academy Programmes when you arrive. \nCome along to our 14-16 parent talk hosted in our B10 classroom\, from 4:15 – 5pm\, where staff members will be available to answer any questions you may have before exploring our facilities and subject areas. \nPlease note\, only the student interested in a course is required to book a space. Any parents\, guardians or guests do not need to book. Thank you.
URL:https://www.calderdale.ac.uk/event/open-event-thursday-28-november-2024/
LOCATION:Calderdale College\, Francis Street\, Halifax\, HX1 3UZ\, United Kingdom
CATEGORIES:All Events
ATTACH;FMTTYPE=image/jpeg:https://www.calderdale.ac.uk/wp-content/uploads/2022/10/CC-Healthcare-2023-24-Course-Guide-77-scaled.jpg
END:VEVENT
END:VCALENDAR